BEGIN:VCALENDAR
VERSION:2.0
PRODID:-//CSEM - ECPv6.15.20//NONSGML v1.0//EN
CALSCALE:GREGORIAN
METHOD:PUBLISH
X-ORIGINAL-URL:https://csem.ubmepsilon.com/fr/
X-WR-CALDESC:Évènements pour CSEM
REFRESH-INTERVAL;VALUE=DURATION:PT1H
X-Robots-Tag:noindex
X-PUBLISHED-TTL:PT1H
BEGIN:VTIMEZONE
TZID:America/Toronto
BEGIN:DAYLIGHT
TZOFFSETFROM:-0500
TZOFFSETTO:-0400
TZNAME:EDT
DTSTART:20240310T070000
END:DAYLIGHT
BEGIN:STANDARD
TZOFFSETFROM:-0400
TZOFFSETTO:-0500
TZNAME:EST
DTSTART:20241103T060000
END:STANDARD
BEGIN:DAYLIGHT
TZOFFSETFROM:-0500
TZOFFSETTO:-0400
TZNAME:EDT
DTSTART:20250309T070000
END:DAYLIGHT
BEGIN:STANDARD
TZOFFSETFROM:-0400
TZOFFSETTO:-0500
TZNAME:EST
DTSTART:20251102T060000
END:STANDARD
BEGIN:DAYLIGHT
TZOFFSETFROM:-0500
TZOFFSETTO:-0400
TZNAME:EDT
DTSTART:20260308T070000
END:DAYLIGHT
BEGIN:STANDARD
TZOFFSETFROM:-0400
TZOFFSETTO:-0500
TZNAME:EST
DTSTART:20261101T060000
END:STANDARD
END:VTIMEZONE
BEGIN:VEVENT
DTSTART;TZID=America/Toronto:20251026T130000
DTEND;TZID=America/Toronto:20251026T130000
DTSTAMP:20260420T080020
CREATED:20251020T101041Z
LAST-MODIFIED:20251020T114047Z
UID:5624-1761483600-1761483600@csem.ubmepsilon.com
SUMMARY:Symposium de patients atteints d'hypothyroïdie
DESCRIPTION:Cet événement\, organisé par nos partenaires de la Fondation canadienne de la thyroïde\, rassemble les points de vue des patients et des endocrinologues sur l’hypothyroïdie. Consultez les détails de l’événement ICI. \nPlease note that this event is not accredited.
URL:https://csem.ubmepsilon.com/fr/event/symposium-de-patients-atteints-dhypothyroidie/
CATEGORIES:Rencontre des partenaires
ATTACH;FMTTYPE=image/png:https://csem.ubmepsilon.com/wp-content/uploads/2025/10/Рисунок5.png
END:VEVENT
END:VCALENDAR