BEGIN:VCALENDAR
VERSION:2.0
PRODID:-//CSEM - ECPv6.15.20//NONSGML v1.0//EN
CALSCALE:GREGORIAN
METHOD:PUBLISH
X-ORIGINAL-URL:https://csem.ubmepsilon.com
X-WR-CALDESC:Events for CSEM
REFRESH-INTERVAL;VALUE=DURATION:PT1H
X-Robots-Tag:noindex
X-PUBLISHED-TTL:PT1H
BEGIN:VTIMEZONE
TZID:America/Toronto
BEGIN:DAYLIGHT
TZOFFSETFROM:-0500
TZOFFSETTO:-0400
TZNAME:EDT
DTSTART:20240310T070000
END:DAYLIGHT
BEGIN:STANDARD
TZOFFSETFROM:-0400
TZOFFSETTO:-0500
TZNAME:EST
DTSTART:20241103T060000
END:STANDARD
BEGIN:DAYLIGHT
TZOFFSETFROM:-0500
TZOFFSETTO:-0400
TZNAME:EDT
DTSTART:20250309T070000
END:DAYLIGHT
BEGIN:STANDARD
TZOFFSETFROM:-0400
TZOFFSETTO:-0500
TZNAME:EST
DTSTART:20251102T060000
END:STANDARD
BEGIN:DAYLIGHT
TZOFFSETFROM:-0500
TZOFFSETTO:-0400
TZNAME:EDT
DTSTART:20260308T070000
END:DAYLIGHT
BEGIN:STANDARD
TZOFFSETFROM:-0400
TZOFFSETTO:-0500
TZNAME:EST
DTSTART:20261101T060000
END:STANDARD
BEGIN:DAYLIGHT
TZOFFSETFROM:-0500
TZOFFSETTO:-0400
TZNAME:EDT
DTSTART:20270314T070000
END:DAYLIGHT
BEGIN:STANDARD
TZOFFSETFROM:-0400
TZOFFSETTO:-0500
TZNAME:EST
DTSTART:20271107T060000
END:STANDARD
END:VTIMEZONE
BEGIN:VEVENT
DTSTART;VALUE=DATE:20250910
DTEND;VALUE=DATE:20250915
DTSTAMP:20260422T185048
CREATED:20250311T174117Z
LAST-MODIFIED:20250311T174117Z
UID:1151-1757462400-1757894399@csem.ubmepsilon.com
SUMMARY:94th Annual Meeting of the American Thyroid Association
DESCRIPTION:
URL:https://csem.ubmepsilon.com/event/94th-annual-meeting-of-the-american-thyroid-association/
LOCATION:Scottsdale\, Scottsdale\, AZ\, United States
CATEGORIES:Partner Meeting
ATTACH;FMTTYPE=image/png:https://csem.ubmepsilon.com/wp-content/uploads/2025/03/ata.png
END:VEVENT
BEGIN:VEVENT
DTSTART;TZID=America/Toronto:20251026T130000
DTEND;TZID=America/Toronto:20251026T130000
DTSTAMP:20260422T185048
CREATED:20251020T101041Z
LAST-MODIFIED:20251020T104726Z
UID:5619-1761483600-1761483600@csem.ubmepsilon.com
SUMMARY:Hypothyroidism Patient Panel
DESCRIPTION:This event developed by our partners at the Thyroid Foundation of Canada brings together patient and endocrinologist perspectives on hypothyroidism. See event details HERE. \nPlease note that this event is not accredited.
URL:https://csem.ubmepsilon.com/event/hypothyroidism-patient-panel-symposium-de-patients-atteints-dhypothyroidie/
CATEGORIES:Partner Meeting
ATTACH;FMTTYPE=image/png:https://csem.ubmepsilon.com/wp-content/uploads/2025/10/Рисунок5.png
END:VEVENT
BEGIN:VEVENT
DTSTART;VALUE=DATE:20251107
DTEND;VALUE=DATE:20251108
DTSTAMP:20260422T185048
CREATED:20251020T095930Z
LAST-MODIFIED:20251020T105641Z
UID:5609-1762473600-1762559999@csem.ubmepsilon.com
SUMMARY:Canadian Symposia on Rare Bone Diseases 2025
DESCRIPTION:
URL:https://csem.ubmepsilon.com/event/canadian-symposia-on-rare-bone-diseases-2025/
CATEGORIES:Partner Meeting
ATTACH;FMTTYPE=image/png:https://csem.ubmepsilon.com/wp-content/uploads/2025/10/symposia.png
END:VEVENT
BEGIN:VEVENT
DTSTART;VALUE=DATE:20251108
DTEND;VALUE=DATE:20251109
DTSTAMP:20260422T185049
CREATED:20251020T100410Z
LAST-MODIFIED:20251020T105845Z
UID:5614-1762560000-1762646399@csem.ubmepsilon.com
SUMMARY:ISCD Quality Bone Densitometry: for Clinicians
DESCRIPTION:Click/tap the poster to enlarge
URL:https://csem.ubmepsilon.com/event/iscd-quality-bone-densitometry-for-clinicians/
CATEGORIES:Partner Meeting
ATTACH;FMTTYPE=image/png:https://csem.ubmepsilon.com/wp-content/uploads/2025/10/iscd.png
END:VEVENT
BEGIN:VEVENT
DTSTART;VALUE=DATE:20260430
DTEND;VALUE=DATE:20260504
DTSTAMP:20260422T185049
CREATED:20250411T151130Z
LAST-MODIFIED:20250411T155640Z
UID:2042-1777507200-1777852799@csem.ubmepsilon.com
SUMMARY:Pediatric Endocrine Society 2026 Annual Meeting
DESCRIPTION:
URL:https://csem.ubmepsilon.com/event/pediatric-endocrine-society-2026-annual-meeting/
LOCATION:San Francisco\, CA\, United States
CATEGORIES:Partner Meeting
END:VEVENT
END:VCALENDAR